BEGIN:VCALENDAR
VERSION:2.0
PRODID:-//Webinare und Schulungen - ECPv6.15.17.1//NONSGML v1.0//EN
CALSCALE:GREGORIAN
METHOD:PUBLISH
X-ORIGINAL-URL:https://www.logistik-telematik.de
X-WR-CALDESC:Events for Webinare und Schulungen
REFRESH-INTERVAL;VALUE=DURATION:PT1H
X-Robots-Tag:noindex
X-PUBLISHED-TTL:PT1H
BEGIN:VTIMEZONE
TZID:Europe/Berlin
BEGIN:DAYLIGHT
TZOFFSETFROM:+0100
TZOFFSETTO:+0200
TZNAME:CEST
DTSTART:20220327T010000
END:DAYLIGHT
BEGIN:STANDARD
TZOFFSETFROM:+0200
TZOFFSETTO:+0100
TZNAME:CET
DTSTART:20221030T010000
END:STANDARD
BEGIN:DAYLIGHT
TZOFFSETFROM:+0100
TZOFFSETTO:+0200
TZNAME:CEST
DTSTART:20230326T010000
END:DAYLIGHT
BEGIN:STANDARD
TZOFFSETFROM:+0200
TZOFFSETTO:+0100
TZNAME:CET
DTSTART:20231029T010000
END:STANDARD
BEGIN:DAYLIGHT
TZOFFSETFROM:+0100
TZOFFSETTO:+0200
TZNAME:CEST
DTSTART:20240331T010000
END:DAYLIGHT
BEGIN:STANDARD
TZOFFSETFROM:+0200
TZOFFSETTO:+0100
TZNAME:CET
DTSTART:20241027T010000
END:STANDARD
END:VTIMEZONE
BEGIN:VEVENT
DTSTART;TZID=Europe/Berlin:20230313T140000
DTEND;TZID=Europe/Berlin:20230313T144500
DTSTAMP:20260422T124306
CREATED:20200114T030352Z
LAST-MODIFIED:20211008T183934Z
UID:2356-1678716000-1678718700@www.logistik-telematik.de
SUMMARY:TIS Webinar | Automated Driver's License Control in TISLOG
DESCRIPTION:Based on legal principles and judgments from case law\, it makes sense to pay sufficient attention to regular checking of your drivers’ license and their documentation. For this we provide you with a simple and inexpensive tool with which you can quickly implement and automate this control. \nCurrently\, our webinars are only presented in German language.\nIf you want to register for participation\, please select the desired date in the German description of this webinar and use the registration form there.
URL:https://www.logistik-telematik.de/veranstaltung/tis-webinar-driving-license-check/2023-03-13/
CATEGORIES:Speaker Oliver Krahmer,Webinar,Webinar Drivers License Check
ATTACH;FMTTYPE=image/jpeg:https://www.logistik-telematik.de/wp-content/uploads/2020/01/fuehrerscheinkontrolle-DE.jpg
END:VEVENT
END:VCALENDAR