BEGIN:VCALENDAR
VERSION:2.0
PRODID:-//Webinare und Schulungen der TIS GmbH - ECPv6.15.17.1//NONSGML v1.0//EN
CALSCALE:GREGORIAN
METHOD:PUBLISH
X-WR-CALNAME:Webinare und Schulungen der TIS GmbH
X-ORIGINAL-URL:https://www.logistik-telematik.de/de/
X-WR-CALDESC:Veranstaltungen für Webinare und Schulungen der TIS GmbH
REFRESH-INTERVAL;VALUE=DURATION:PT1H
X-Robots-Tag:noindex
X-PUBLISHED-TTL:PT1H
BEGIN:VTIMEZONE
TZID:Europe/Berlin
BEGIN:DAYLIGHT
TZOFFSETFROM:+0100
TZOFFSETTO:+0200
TZNAME:CEST
DTSTART:20220327T010000
END:DAYLIGHT
BEGIN:STANDARD
TZOFFSETFROM:+0200
TZOFFSETTO:+0100
TZNAME:CET
DTSTART:20221030T010000
END:STANDARD
BEGIN:DAYLIGHT
TZOFFSETFROM:+0100
TZOFFSETTO:+0200
TZNAME:CEST
DTSTART:20230326T010000
END:DAYLIGHT
BEGIN:STANDARD
TZOFFSETFROM:+0200
TZOFFSETTO:+0100
TZNAME:CET
DTSTART:20231029T010000
END:STANDARD
BEGIN:DAYLIGHT
TZOFFSETFROM:+0100
TZOFFSETTO:+0200
TZNAME:CEST
DTSTART:20240331T010000
END:DAYLIGHT
BEGIN:STANDARD
TZOFFSETFROM:+0200
TZOFFSETTO:+0100
TZNAME:CET
DTSTART:20241027T010000
END:STANDARD
END:VTIMEZONE
BEGIN:VEVENT
DTSTART;TZID=Europe/Berlin:20230623T100000
DTEND;TZID=Europe/Berlin:20230623T104500
DTSTAMP:20260422T110338
CREATED:20230601T055321Z
LAST-MODIFIED:20230601T064741Z
UID:5318-1687514400-1687517100@www.logistik-telematik.de
SUMMARY:TIS Webinar | Infodesk 5
DESCRIPTION:In diesem Webinar stellen wir Ihnen unsere neueste Version des Web-Portals TISLOG office Infodesk vor. Dabei zeigt Ihnen unser Referent die neue Struktur sowie den moderneren Aufbau des Infodesk 5.
URL:https://www.logistik-telematik.de/de/veranstaltung/tis-webinar-infodesk-5/2023-06-23/
CATEGORIES:Referent Bastian Wehrmann,Webinar,Webinar Infodesk 5
ATTACH;FMTTYPE=image/png:https://www.logistik-telematik.de/wp-content/uploads/2023/06/Infodesk5.png
END:VEVENT
END:VCALENDAR